BEGIN:VCALENDAR
VERSION:2.0
PRODID:-//ceres.rub.de//events//
CALSCALE:GREGORIAN
METHOD:PUBLISH
X-WR-TIMEZONE:UTC
BEGIN:VEVENT
SUMMARY:Paper on Annual Conference of ZfL Berlin
DTSTART:20151029T130000Z
DTEND:20151029T143000Z
DTSTAMP:20260421T012934Z
UID:zfl2015_en-2084@ceres.rub.de
CATEGORIES:
DESCRIPTION:Brauchen Kultur und Religion einander?\nProf. Dr. Volkhard Kre
 ch (CERES)\nGerman paper given at the annual conference of the Zentrum fü
 r Literatur- und Kulturforschung Berlin. For more information click here.
URL:https://ceres.rub.de/en/events/zfl2015_en/
END:VEVENT
END:VCALENDAR
