BEGIN:VCALENDAR
VERSION:2.0
PRODID:-//ceres.rub.de//events//
CALSCALE:GREGORIAN
METHOD:PUBLISH
X-WR-TIMEZONE:UTC
BEGIN:VEVENT
SUMMARY:Workshop of Iconic Religion's project team
DTSTART:20150928T100000Z
DTEND:20150930T140000Z
DTSTAMP:20260421T000802Z
UID:workshop_icorel_2015_1-1570@ceres.rub.de
CATEGORIES:
DESCRIPTION:
URL:https://ceres.rub.de/en/events/workshop_icorel_2015_1/
END:VEVENT
END:VCALENDAR
