BEGIN:VCALENDAR
VERSION:2.0
PRODID:-//ceres.rub.de//events//
CALSCALE:GREGORIAN
METHOD:PUBLISH
X-WR-TIMEZONE:UTC
BEGIN:VEVENT
SUMMARY:Pahlavi-Digital-Corpus Workshop
DTSTART:20171109T080000Z
DTEND:20171110T170000Z
DTSTAMP:20260423T121258Z
UID:workshop-kianoosh-nov17-4026@ceres.rub.de
CATEGORIES:
DESCRIPTION:Pahlavi literature is the largest of the Middle Iranian text c
 orpora. It comprehends the Middle Persian translations of the Avesta and t
 he (mostly religious and theological) texts of the Zoroastrians priests fr
 om the 7th to the 14th century.\n\nThe Pahlavi-Digital-Corpus workshop wil
 l explore the requirements for / scientific prospects of a comprehensive d
 igital reworking of the Pahlavi literature in the frame of an internationa
 l cooperation (Bochum\, Jerusalem\, Berlin).\n\nParticipation on invitatio
 n only.\n
LOCATION:CERES Palais\, room "Ruhrpott" (4.13)
URL:https://ceres.rub.de/en/events/workshop-kianoosh-nov17/
END:VEVENT
END:VCALENDAR
