BEGIN:VCALENDAR
VERSION:2.0
PRODID:-//ceres.rub.de//events//
CALSCALE:GREGORIAN
METHOD:PUBLISH
X-WR-TIMEZONE:UTC
BEGIN:VEVENT
SUMMARY:Knowledge Transfer: Internal Meeting
DTSTART:20150427T141500Z
DTEND:20150427T154500Z
DTSTAMP:20260421T021741Z
UID:wissenstransfer_1-1528@ceres.rub.de
CATEGORIES:
DESCRIPTION:
LOCATION:FNO 02/ 40-46
URL:https://ceres.rub.de/en/events/wissenstransfer_1/
END:VEVENT
END:VCALENDAR
