BEGIN:VCALENDAR
VERSION:2.0
PRODID:-//ceres.rub.de//events//
CALSCALE:GREGORIAN
METHOD:PUBLISH
X-WR-TIMEZONE:UTC
BEGIN:VEVENT
SUMMARY:Materialwerkstatt Wissenstransfer: Wissenstransfer im Verbund -  R
 eligionswissenschaft und Sprachbildung 
DTSTART:20171025T120000Z
DTEND:20171025T140000Z
DTSTAMP:20260424T235256Z
UID:wissenstransfer-im-verbund-religionswissenschaft-u-4424@ceres.rub.de
CATEGORIES:
DESCRIPTION:Ausgehend von dem Verbundprojekt Sprachförderung und Transkul
 turelle Sensibilität in der Lehrerbildung widmen wir uns in dieser Sitzun
 g dem gemeinsamen Austausch über Expertisen im Wissenstransfer. Es werden
  religionswissenschaftliche und sprachbildende Ansätze vorgestellt\, anal
 ysiert und hinsichtlich des interdisziplinär angelegten Verbunds diskutie
 rt.\n
LOCATION:CERES Palais\, room "Cordoba" (3.06) 
URL:https://ceres.rub.de/en/events/wissenstransfer-im-verbund-religionswis
 senschaft-u/
END:VEVENT
END:VCALENDAR
