BEGIN:VCALENDAR
VERSION:2.0
PRODID:-//ceres.rub.de//events//
CALSCALE:GREGORIAN
METHOD:PUBLISH
X-WR-TIMEZONE:UTC
BEGIN:VEVENT
SUMMARY:Weltanschauliche und interreligiöse Toleranz in einem säkularen 
 Zeitalter
DTSTART:20190516T093000Z
DTEND:20190516T110000Z
DTSTAMP:20260423T130322Z
UID:weltanschauliche-und-interreligiose-toleranz-einem-6346@ceres.rub.de
CATEGORIES:
DESCRIPTION:Öffentlicher Gastvortrag von Dilek A. Tepeli (CERES) und Jür
 gen Straub (Beirat CERES) im Rahmen des Auftaktworkshop des transdisziplin
 äre Promotionskolleg zu Psychosozialen Folgen von Migration und Flucht. G
 enerationale Dynamiken und adoleszente Verläufe\, Sigmund-Freud-Institut 
 Frankfurt (M).\n\nMehr Informationen zur Veranstaltung\n\n 
LOCATION:Sigmund-Freud-Institut Frankfurt (M)
URL:https://ceres.rub.de/en/events/weltanschauliche-und-interreligiose-tol
 eranz-einem/
END:VEVENT
END:VCALENDAR
