BEGIN:VCALENDAR
VERSION:2.0
PRODID:-//ceres.rub.de//events//
CALSCALE:GREGORIAN
METHOD:PUBLISH
X-WR-TIMEZONE:UTC
BEGIN:VEVENT
SUMMARY:Von der Idealisierung der Vergangenheit: Frauenbild und Frauenkör
 per im Zoroastrismus
DTSTART:20240129T170000Z
DTEND:20240129T183000Z
DTSTAMP:20260421T122511Z
UID:von-der-idealisierung-der-vergangenheit-frauenbild-10978@ceres.rub.de
CATEGORIES:
DESCRIPTION:Kianoosh Rezania\, Religionshistoriker am CERES der Ruhr-Unive
 rsität Bochum\, ist Teil der Ringvorlesung "Frau\, Leben\, Freiheit – e
 manzipatorische Potenziale" der Philosophischen Fakultät der Universität
  zu Köln. \n\nSeine Vorlesung "Von der Idealisierung der Vergangenheit: 
 Frauenbild und Frauenkörper im Zoroastrismus" findet um 18:00 Uhr online 
 statt. \n\nAlle weiteren Informationen zur Anmeldung und Teilnahme finden
  Sie unter https://orient.phil-fak.uni-koeln.de/uebersicht/frau-leben-fre
 iheit-emanzipatorische-potenziale. 
URL:https://ceres.rub.de/en/events/von-der-idealisierung-der-vergangenheit
 -frauenbild/
END:VEVENT
END:VCALENDAR
