BEGIN:VCALENDAR
VERSION:2.0
PRODID:-//ceres.rub.de//events//
CALSCALE:GREGORIAN
METHOD:PUBLISH
X-WR-TIMEZONE:UTC
BEGIN:VEVENT
SUMMARY:Research Field 4: Tradition
DTSTART:20150511T141500Z
DTEND:20150511T154500Z
DTSTAMP:20260420T232207Z
UID:tradition_may_rf4_1-1534@ceres.rub.de
CATEGORIES:
DESCRIPTION:For Rub-Colleagues & Fellows
LOCATION:FNO 02/ 40-46
URL:https://ceres.rub.de/en/events/tradition_may_rf4_1/
END:VEVENT
END:VCALENDAR
