BEGIN:VCALENDAR
VERSION:2.0
PRODID:-//ceres.rub.de//events//
CALSCALE:GREGORIAN
METHOD:PUBLISH
X-WR-TIMEZONE:UTC
BEGIN:VEVENT
SUMMARY:Film screening: “The Three Peaks” 
DTSTART:20150714T140000Z
DTEND:20150714T160000Z
DTSTAMP:20260420T202219Z
UID:the-three-peaks1-1569@ceres.rub.de
CATEGORIES:
DESCRIPTION:“The Three Peaks” (56 min). Documentary by Ksenia Pimenova
 . CNRS-Images\, 2016. \nLanguages: Russian\, Tuvan. Subtitles: French.  \
 nIn a village of the Republic of Tuva (Russian Federation) three women man
 age the religious organization of shamans « The Three Peaks » and deal
  with the local clients’ requests for healing\, solving family problems\
 , ritual purifications\, and divinations. The film is centered on Vera\, R
 ussian woman from Moscow. She learnt shamanic rituals from her Tuvan shama
 n master\, deceased in 1997\, inherited his helping spirits and became rec
 ognized by her clients and her pairs. Through Vera’s character\, the fil
 m addresses the main questions of the post-Soviet revival of Tuvan shamani
 sm: the knowledge transmission\, the role of the elders\, the hierarchical
  construction of the religious field\, and the ritual communication.\nThe 
 film-maker will be present and give an introduction to the topic.
URL:https://ceres.rub.de/en/events/the-three-peaks1/
END:VEVENT
END:VCALENDAR
