BEGIN:VCALENDAR
VERSION:2.0
PRODID:-//ceres.rub.de//events//
CALSCALE:GREGORIAN
METHOD:PUBLISH
X-WR-TIMEZONE:UTC
BEGIN:VEVENT
SUMMARY:Summary of the Fellow Year 2014/15 and the Overarching Topic "Trad
 ition"
DTSTART:20150713T131000Z
DTEND:20150713T173000Z
DTSTAMP:20260420T201613Z
UID:summary_tradition_2-en-1550@ceres.rub.de
CATEGORIES:
DESCRIPTION:This event is designed for reviewing the fellowship season 201
 4/15 and its research outcome. All KHK colleagues\, associates and fellows
  are invited to share their experience of the last season.
URL:https://ceres.rub.de/en/events/summary_tradition_2-en/
END:VEVENT
END:VCALENDAR
