BEGIN:VCALENDAR
VERSION:2.0
PRODID:-//ceres.rub.de//events//
CALSCALE:GREGORIAN
METHOD:PUBLISH
X-WR-TIMEZONE:UTC
BEGIN:VEVENT
SUMMARY:Research Field 2: Tradition / Plus: Next Overreaching Topic: Relig
 ion and the Senses 
DTSTART:20150615T141500Z
DTEND:20150615T154500Z
DTSTAMP:20260420T232300Z
UID:rf2_tradition_june_3-1542@ceres.rub.de
CATEGORIES:
DESCRIPTION:Rub-Colleagues & Fellows
LOCATION:FNO 02/ 40-46
URL:https://ceres.rub.de/en/events/rf2_tradition_june_3/
END:VEVENT
END:VCALENDAR
