BEGIN:VCALENDAR
VERSION:2.0
PRODID:-//ceres.rub.de//events//
CALSCALE:GREGORIAN
METHOD:PUBLISH
X-WR-TIMEZONE:UTC
BEGIN:VEVENT
SUMMARY:RePliR-Kolloqium: Religiöser Pluralismus bei türkeistämmigen Ju
 gendlichen
DTSTART:20171122T130000Z
DTEND:20171122T170000Z
DTSTAMP:20260424T231940Z
UID:replir-kolloqium-religioser-pluralismus-turkei-4086@ceres.rub.de
CATEGORIES:
DESCRIPTION:Aysel Tepeli: "Religiöser Pluralismus und psychosoziale Bezie
 hungen im Alltag türkeistämmiger Jugendlicher und junger Erwachsener in 
 Deutschland"\n\nMartina Loth: "Religiöse Identität jugendlicher Aleviten
  und Sunniten"\n
LOCATION:CERES Palais\, room "Ruhrpott" (4.13)
URL:https://ceres.rub.de/en/events/replir-kolloqium-religioser-pluralismus
 -turkei/
END:VEVENT
END:VCALENDAR
