BEGIN:VCALENDAR
VERSION:2.0
PRODID:-//ceres.rub.de//events//
CALSCALE:GREGORIAN
METHOD:PUBLISH
X-WR-TIMEZONE:UTC
BEGIN:VEVENT
SUMMARY:Religion and the Senses
DTSTART:20160907T150000Z
DTEND:20160909T160000Z
DTSTAMP:20260421T194753Z
UID:religion-senses-en-2450@ceres.rub.de
CATEGORIES:
DESCRIPTION:After having been disregarded in favour of doctrines and dogma
 s for a long time\, the sensory dimension of religions has recently attrac
 ted a large scholarly attention in religious studies. \n\nIn tune with th
 e surrounding academic landscape\, the Käte Hamburger Kolleg Dynamics in 
 the History of Religions between Asia and Europe (funded by the German Min
 istry of Education and Research) has devoted the academic year 2015-2016 t
 o the scrutiny of the role of the theme “senses” from the perspective 
 of interreligious\, intrareligious and intersocietal contact. \n\nThe con
 ference on "Religion and the Senses" shall summarize the main results of t
 his work. Through keynote talks\, inputs and short statement given by gues
 ts\, current and former fellows\, the conference shall\, on the one hand\,
  look at the theme “senses” in moments of contact and\, an the other h
 and\, reflect on the role of this theme within religions East and West. Gi
 ven the thematic complexity and analytical challenges hidden behind the ke
 y-word “senses”\, talks\, inputs and statements will focalize on four 
 fields: the role of senses in\n\n    (a) notions\,\n    (b) doctrine
 s\, \n    (c) ritual\n    (d) media of religions.\n\nConference pro
 gramme\n
LOCATION:CERES Palais\, room "Ruhrpott" (4.13)
URL:https://ceres.rub.de/en/events/religion-senses-en/
END:VEVENT
END:VCALENDAR
