BEGIN:VCALENDAR
VERSION:2.0
PRODID:-//ceres.rub.de//events//
CALSCALE:GREGORIAN
METHOD:PUBLISH
X-WR-TIMEZONE:UTC
BEGIN:VEVENT
SUMMARY:Reading Circle "Charisma"
DTSTART:20180615T123000Z
DTEND:20180615T140000Z
DTSTAMP:20260422T184828Z
UID:reading-circle-charisma-201806-5101@ceres.rub.de
CATEGORIES:
DESCRIPTION:This reading circle examines and compares the different concep
 ts of "charisma" as of Max Weber\, Pierre Bordieu and other thinkers of so
 ciology\, religious studies and athropology. It is open for all CERES rese
 archers\, visiting fellows and staff members.\n
LOCATION:CERES Palais\, room "Gandhara" (1.11)
URL:https://ceres.rub.de/en/events/reading-circle-charisma-201806/
END:VEVENT
END:VCALENDAR
