BEGIN:VCALENDAR
VERSION:2.0
PRODID:-//ceres.rub.de//events//
CALSCALE:GREGORIAN
METHOD:PUBLISH
X-WR-TIMEZONE:UTC
BEGIN:VEVENT
SUMMARY:Praktische Religionswissenschaft\, M.A.
DTSTART:20131022T161500Z
DTEND:20131022T180000Z
DTSTAMP:20260422T065130Z
UID:praktische-religionswissenschaft-ma-722@ceres.rub.de
CATEGORIES:
DESCRIPTION:Diese Veranstaltung begleitet das Praktikum im Masterstudienga
 ng und stellt - neben Praktikum und Praktikumsbericht – einen Teil des P
 R-Moduls dar. In der Auftaktsitzung am 22.10 werden Fragen bezüglich Prak
 tikumswahl\, Bewerbungsprozess und Finanzierungsmöglichkeiten thematisier
 t. Im Laufe des Semesters finden zwei weitere Sitzungen statt. Diese richt
 en sich nach den Bedürfnissen der Teilnehmenden. Es können beispielsweis
 e mögliche Einsatzfelder für Religionswissenschaftler näher beleuchtet 
 oder sich aus Praktika ergebene Anschlussmöglichkeiten für Qualifikation
 sarbeiten diskutiert werden. Die genauen Themen und Termine der beiden Ans
 chlusstreffen werden gemeinsam mit allen Teilnehmenden in der ersten Sitzu
 ng festgelegt.\nDer Besuch der Veranstaltung ist für Studierende\, welche
  sich ein Praktikum im PR-Modul anrechnen lassen wollen\, obligatorisch. I
 nteressierte Studierende\, die ein Praktikum in einem anderen Kontext abso
 lvieren oder überlegen eine Qualifikationsarbeit in diesem Bereich zu sch
 reiben\, sind selbstverständlich eingeladen teilzunehmen.
LOCATION:FNO 02/ 73-75
URL:https://ceres.rub.de/en/events/praktische-religionswissenschaft-ma/
END:VEVENT
END:VCALENDAR
