BEGIN:VCALENDAR
VERSION:2.0
PRODID:-//ceres.rub.de//events//
CALSCALE:GREGORIAN
METHOD:PUBLISH
X-WR-TIMEZONE:UTC
BEGIN:VEVENT
SUMMARY:Networking Event and Summer Party
DTSTART:20240708T143000Z
DTEND:20240708T203000Z
DTSTAMP:20260421T131346Z
UID:networking-event-and-summer-party_24-11346@ceres.rub.de
CATEGORIES:
DESCRIPTION:
URL:https://ceres.rub.de/en/events/networking-event-and-summer-party_24/
END:VEVENT
END:VCALENDAR
