BEGIN:VCALENDAR
VERSION:2.0
PRODID:-//ceres.rub.de//events//
CALSCALE:GREGORIAN
METHOD:PUBLISH
X-WR-TIMEZONE:UTC
BEGIN:VEVENT
SUMMARY:Monday Meeting: Focus Group Notions I
DTSTART:20160411T141500Z
DTEND:20160411T154500Z
DTSTAMP:20260421T113550Z
UID:monday-meeting-notions-1-SoSe16-en-2443@ceres.rub.de
CATEGORIES:
DESCRIPTION:
LOCATION:CERES Palais\, room "Ruhrpott" (4.13)
URL:https://ceres.rub.de/en/events/monday-meeting-notions-1-SoSe16-en/
END:VEVENT
END:VCALENDAR
