BEGIN:VCALENDAR
VERSION:2.0
PRODID:-//ceres.rub.de//events//
CALSCALE:GREGORIAN
METHOD:PUBLISH
X-WR-TIMEZONE:UTC
BEGIN:VEVENT
SUMMARY:Monday Meeting: Get Together 
DTSTART:20151019T161500Z
DTEND:20151019T200000Z
DTSTAMP:20260421T031252Z
UID:monday-meeting-get-together-en-2052@ceres.rub.de
CATEGORIES:
DESCRIPTION:
LOCATION:CERES Palais\, room "Ruhrpott" (4.13)
URL:https://ceres.rub.de/en/events/monday-meeting-get-together-en/
END:VEVENT
END:VCALENDAR
