BEGIN:VCALENDAR
VERSION:2.0
PRODID:-//ceres.rub.de//events//
CALSCALE:GREGORIAN
METHOD:PUBLISH
X-WR-TIMEZONE:UTC
BEGIN:VEVENT
SUMMARY:Materialwerkstatt Wissenstransfer Spezial
DTSTART:20190226T150000Z
DTEND:20190226T170000Z
DTSTAMP:20260420T123715Z
UID:materialwerkstatt-wissenstransfer-spezial-6110@ceres.rub.de
CATEGORIES:
DESCRIPTION:„Was glaubst du?“ – Wissenstransfer im Gesellschaftsspie
 l\n\nIn dieser Materialwerkstatt probieren wir das Gesellschaftsspiel "Was
  glaubst du?" der Kommunikationsdesignerin Linda Knott.\n\nDiese Materialw
 erkstatt ist für Studierende geöffnet.
LOCATION:CERES Palais\, room "Ruhrpott" (4.13)
URL:https://ceres.rub.de/en/events/materialwerkstatt-wissenstransfer-spezi
 al/
END:VEVENT
END:VCALENDAR
