BEGIN:VCALENDAR
VERSION:2.0
PRODID:-//ceres.rub.de//events//
CALSCALE:GREGORIAN
METHOD:PUBLISH
X-WR-TIMEZONE:UTC
BEGIN:VEVENT
SUMMARY:Materialwerkstatt Wissenstransfer
DTSTART:20190522T120000Z
DTEND:20190522T140000Z
DTSTAMP:20260423T125254Z
UID:materialwerkstatt-wissenstransfer-20190522-6123@ceres.rub.de
CATEGORIES:
DESCRIPTION:"Kunst sehen\, Religion verstehen" - eine Präsentation zur Ku
 nst- und Religionsvermittlung im Museum.
LOCATION:CERES Palais\, room "Ruhrpott" (4.13)
URL:https://ceres.rub.de/en/events/materialwerkstatt-wissenstransfer-20190
 522/
END:VEVENT
END:VCALENDAR
