BEGIN:VCALENDAR
VERSION:2.0
PRODID:-//ceres.rub.de//events//
CALSCALE:GREGORIAN
METHOD:PUBLISH
X-WR-TIMEZONE:UTC
BEGIN:VEVENT
SUMMARY:Lesekreis "Kirche und Gesellschaft"
DTSTART:20190409T080000Z
DTEND:20190409T100000Z
DTSTAMP:20260423T142730Z
UID:lesekreis-kirche-und-gesellschaft-de-1-6277@ceres.rub.de
CATEGORIES:
DESCRIPTION:Der Lesekreis widmet sich der neusten Forschungsliteratur zu K
 irche und Gesellschaft. Er wird von Mitarbeiter/innen des CERES\, der Faku
 ltät für Evangelische Theologie (RUB) und dem Zentrum für angewandte Pa
 storalforschung (zap\, RUB) organisiert und ist auf Anfrage für weitere W
 issenschaftler/innen\, Mitarbeiter/innen und Gastwissenschaftler/innen ge
 öffnet.
LOCATION:CERES Palais\, room "Bagdad" (2.10)
URL:https://ceres.rub.de/en/events/lesekreis-kirche-und-gesellschaft-de-1/
END:VEVENT
END:VCALENDAR
