BEGIN:VCALENDAR
VERSION:2.0
PRODID:-//ceres.rub.de//events//
CALSCALE:GREGORIAN
METHOD:PUBLISH
X-WR-TIMEZONE:UTC
BEGIN:VEVENT
SUMMARY:KHK-Vorstandssitzung
DTSTART:20140703T100000Z
DTEND:20140703T120000Z
DTSTAMP:20260421T174915Z
UID:khk-vorstandssitzung-3-en-1098@ceres.rub.de
CATEGORIES:
DESCRIPTION:
LOCATION:FNO 02/ 40-46
URL:https://ceres.rub.de/en/events/khk-vorstandssitzung-3-en/
END:VEVENT
END:VCALENDAR
