BEGIN:VCALENDAR
VERSION:2.0
PRODID:-//ceres.rub.de//events//
CALSCALE:GREGORIAN
METHOD:PUBLISH
X-WR-TIMEZONE:UTC
BEGIN:VEVENT
SUMMARY:KHK Monday Meeting: Moving towards a Typology of Religious Contact
 s 4
DTSTART:20190527T141500Z
DTEND:20190527T154500Z
DTSTAMP:20260423T130125Z
UID:khk-monday-meeting-session-4-20190527-6304@ceres.rub.de
CATEGORIES:
DESCRIPTION:Session 4 by Eduard Iricinschi "Ten Good Reasons to Become a M
 anichaean: 'Formative Religion' as a Typological Concept for the History o
 f Late Antique Manichaeism in Contact”
LOCATION:CERES Palais\, room "Ruhrpott" (4.13)
URL:https://ceres.rub.de/en/events/khk-monday-meeting-session-4-20190527/
END:VEVENT
END:VCALENDAR
