BEGIN:VCALENDAR
VERSION:2.0
PRODID:-//ceres.rub.de//events//
CALSCALE:GREGORIAN
METHOD:PUBLISH
X-WR-TIMEZONE:UTC
BEGIN:VEVENT
SUMMARY:KHK Monday Meeting Fellow Presentation: Marianna Ferrara
DTSTART:20190506T161500Z
DTEND:20190506T174500Z
DTSTAMP:20260423T130447Z
UID:khk-monday-meeting-fellow-presentation-20190506-6299@ceres.rub.de
CATEGORIES:
DESCRIPTION:
LOCATION:CERES Palais\, room "Ruhrpott" (4.13)
URL:https://ceres.rub.de/en/events/khk-monday-meeting-fellow-presentation-
 20190506/
END:VEVENT
END:VCALENDAR
