BEGIN:VCALENDAR
VERSION:2.0
PRODID:-//ceres.rub.de//events//
CALSCALE:GREGORIAN
METHOD:PUBLISH
X-WR-TIMEZONE:UTC
BEGIN:VEVENT
SUMMARY:Introduction for new Undergraduate Students Summer Term 2019
DTSTART:20190402T080000Z
DTEND:20190402T100000Z
DTSTAMP:20260423T142511Z
UID:introduction-new-undergraduate-students-summer2019-5723@ceres.rub.de
CATEGORIES:
DESCRIPTION:Same procedure as every term: At the start of this term we off
 er an introduction for all new undergraduate students\, which recently enr
 olled into the BA study programme of CERES. The introduction will be prese
 nted in German only.
LOCATION:CERES Palais\, room "Ruhrpott" (4.13)
URL:https://ceres.rub.de/en/events/introduction-new-undergraduate-students
 -summer2019/
END:VEVENT
END:VCALENDAR
