BEGIN:VCALENDAR
VERSION:2.0
PRODID:-//ceres.rub.de//events//
CALSCALE:GREGORIAN
METHOD:PUBLISH
X-WR-TIMEZONE:UTC
BEGIN:VEVENT
SUMMARY:Infoveranstaltung Auslandsstudium und (Auslands-)Praktika
DTSTART:20190513T100000Z
DTEND:20190513T120000Z
DTSTAMP:20260423T130453Z
UID:infoveranstaltung-auslandsstudium-und-auslands-pra-6265@ceres.rub.de
CATEGORIES:
DESCRIPTION:
LOCATION:CERES Palais\, room "Ruhrpott" (4.13)
URL:https://ceres.rub.de/en/events/infoveranstaltung-auslandsstudium-und-a
 uslands-pra/
END:VEVENT
END:VCALENDAR
