BEGIN:VCALENDAR
VERSION:2.0
PRODID:-//ceres.rub.de//events//
CALSCALE:GREGORIAN
METHOD:PUBLISH
X-WR-TIMEZONE:UTC
BEGIN:VEVENT
SUMMARY:Informationsveranstaltung zum Sommersemester 2015
DTSTART:20150203T150000Z
DTEND:20150203T170000Z
DTSTAMP:20260421T044002Z
UID:info_ss_2015_en-1492@ceres.rub.de
CATEGORIES:
DESCRIPTION:CERES-Informationsveranstaltung zum Sommersemester 2015Aufgrun
 d des anstehenden Umzugs lädt das Centrum für Religionswissenschaftliche
  Studien (CERES) zu einer Informationsveranstaltung zum Sommersemester 201
 5:Datum: Dienstag\, der 03. Februar 2015Uhrzeit: 16 Uhr    s.t.Ort: Uni
 versitätsforum BochumRaum: 0/09Alle Studierenden des Fachs Religionswisse
 nschaft sind herzlich willkommen.
URL:https://ceres.rub.de/en/events/info_ss_2015_en/
END:VEVENT
END:VCALENDAR
