BEGIN:VCALENDAR
VERSION:2.0
PRODID:-//ceres.rub.de//events//
CALSCALE:GREGORIAN
METHOD:PUBLISH
X-WR-TIMEZONE:UTC
BEGIN:VEVENT
SUMMARY:IAHR congress ||| Panel
DTSTART:20150827T133000Z
DTEND:20150827T153000Z
DTSTAMP:20260420T200658Z
UID:iahrpanel2708_21-1581@ceres.rub.de
CATEGORIES:
DESCRIPTION:Iconic Religion in Public Space (2)\nPanel Chair: Kim Knott\nP
 anel of the CERES research project Iconic Religion: How Imagineries of Rel
 igious Encounter Structure Urban Space\nIn the second of two sessions we w
 ill continue to consider to what extent such icons\, in the form of sacred
  buildings and sites\, clothing\, public events etc\, generate social imag
 inaries about different religions and their co-existence. The semiotic con
 tribution of Peirce will be examined in relation to the attribution and ge
 neration of the ‘iconicity’ of religious objects. This will be followe
 d by papers which investigate the geography\, visibility and contestation 
 of religious icons in diverse urban public spaces\, and the discourses\, r
 epresentations and encounters they generate.\nWith:\n\nVolkhard Krech (CER
 ES): Iconic religion: Reflections on a monistic approach to religious phen
 omena\nHew Wai Weng: Sights and sites of inclusive Islam: Chinese-style mo
 sques in urban Malaysia and Indonesia\nChristopher Cotter: Seeing a secula
 r space? Photo elicitation and the discourse on religion in Edinburgh’s 
 Southside\nIrene Stengs: The falling of an icon: The afterlife of the Anne
  Frank Tree\, Amsterdam\n\n(27-307 | 122)
URL:https://ceres.rub.de/en/events/iahrpanel2708_21/
END:VEVENT
END:VCALENDAR
