BEGIN:VCALENDAR
VERSION:2.0
PRODID:-//ceres.rub.de//events//
CALSCALE:GREGORIAN
METHOD:PUBLISH
X-WR-TIMEZONE:UTC
BEGIN:VEVENT
SUMMARY:IAHR congress ||| Panel
DTSTART:20150824T113000Z
DTEND:20150824T133000Z
DTSTAMP:20260420T201642Z
UID:iahrpanel2408_51-1592@ceres.rub.de
CATEGORIES:
DESCRIPTION:Doing Study of Religions in Public Institutions\nPanel Chairs:
  Sarah J. Jahn (CERES) & Lene Kühle\nDoing Study of Religions in public i
 nstitutions in countries where religion is legally separated from the publ
 ic sphere is a common research topic. The participants of the panel doing 
 research of ‘religion’ in several public institutions in different Eur
 opean and/ or North American countries\; but\, what does it mean to do res
 earch on ‘religion’ in public institutions? The question does not only
  touch upon the issue of research practice\, but also raises fundamental m
 ethodological considerations\, and calls for consideration of science-poli
 cy and -politics that arise from a specific understanding of what is meant
  by the ‘Study of Religions’. Overall\, it can be stated that research
  on religion has to be analysed on different levels and from different per
 spectives\, because there are also several understandings of ‘religion
 ’. After a general introduction by the chairwomen\, the participants wil
 l discuss this overarching topic of the panel with reference to their own 
 research experience.\n(panel 24-203 | HS 3)
URL:https://ceres.rub.de/en/events/iahrpanel2408_51/
END:VEVENT
END:VCALENDAR
