BEGIN:VCALENDAR
VERSION:2.0
PRODID:-//ceres.rub.de//events//
CALSCALE:GREGORIAN
METHOD:PUBLISH
X-WR-TIMEZONE:UTC
BEGIN:VEVENT
SUMMARY:50 Jahre - 50 Vorträge: Religiöse Vielfalt im Ruhrgebiet
DTSTART:20151111T170000Z
DTEND:20151111T183000Z
DTSTAMP:20260421T031129Z
UID:fuenfzigjahre-fuenfzigvortraege-1500@ceres.rub.de
CATEGORIES:
DESCRIPTION:Zum 50jährigen Bestehen der RUB werden 50 Vorträge von RUB-A
 ngehörigen im Blue Square präsentiert. Mit dem Thema "Religiöse Vielfal
 t im Ruhrgebiet" wird heute der Leiter des CERES\, Prof. Dr. Volkhard Krec
 h\, die lokale Religionsforschung einem breiten Publikum vorstellen.
URL:https://ceres.rub.de/en/events/fuenfzigjahre-fuenfzigvortraege/
END:VEVENT
END:VCALENDAR
