BEGIN:VCALENDAR
VERSION:2.0
PRODID:-//ceres.rub.de//events//
CALSCALE:GREGORIAN
METHOD:PUBLISH
X-WR-TIMEZONE:UTC
BEGIN:VEVENT
SUMMARY:Forschungskolloquium
DTSTART:20190523T160000Z
DTEND:20190523T173000Z
DTSTAMP:20260423T130033Z
UID:forschungskolloquium-20190523-6218@ceres.rub.de
CATEGORIES:
DESCRIPTION:
LOCATION:CERES Palais\, room "Turfan" (0.13)
URL:https://ceres.rub.de/en/events/forschungskolloquium-20190523/
END:VEVENT
END:VCALENDAR
