BEGIN:VCALENDAR
VERSION:2.0
PRODID:-//ceres.rub.de//events//
CALSCALE:GREGORIAN
METHOD:PUBLISH
X-WR-TIMEZONE:UTC
BEGIN:VEVENT
SUMMARY:Plenary Session: Fellow Presentations
DTSTART:20150601T161500Z
DTEND:20150601T174500Z
DTSTAMP:20260420T215339Z
UID:fellow_presentations_june_1-1538@ceres.rub.de
CATEGORIES:
DESCRIPTION:Plenary Session\, Fellow Presentations: Bérénice Lagarce-Oth
 man
LOCATION:FNO 02/ 40-46
URL:https://ceres.rub.de/en/events/fellow_presentations_june_1/
END:VEVENT
END:VCALENDAR
