BEGIN:VCALENDAR
VERSION:2.0
PRODID:-//ceres.rub.de//events//
CALSCALE:GREGORIAN
METHOD:PUBLISH
X-WR-TIMEZONE:UTC
BEGIN:VEVENT
SUMMARY:Colloquium | Young Scientists
DTSTART:20140508T160000Z
DTEND:20140508T180000Z
DTSTAMP:20260421T195253Z
UID:en_20140508_colloquium_meinert-1106@ceres.rub.de
CATEGORIES:
DESCRIPTION:
LOCATION:FNO 02/ 73-75
URL:https://ceres.rub.de/en/events/en_20140508_colloquium_meinert/
END:VEVENT
END:VCALENDAR
