BEGIN:VCALENDAR
VERSION:2.0
PRODID:-//ceres.rub.de//events//
CALSCALE:GREGORIAN
METHOD:PUBLISH
X-WR-TIMEZONE:UTC
BEGIN:VEVENT
SUMMARY:Meeting
DTSTART:20140702T120000Z
DTEND:20140702T140000Z
DTSTAMP:20260421T174306Z
UID:en-meeting-1145@ceres.rub.de
CATEGORIES:
DESCRIPTION:CERES Studienordnung Besprechung
LOCATION:FNO 02/ 73-75
URL:https://ceres.rub.de/en/events/en-meeting/
END:VEVENT
END:VCALENDAR
