BEGIN:VCALENDAR
VERSION:2.0
PRODID:-//ceres.rub.de//events//
CALSCALE:GREGORIAN
METHOD:PUBLISH
X-WR-TIMEZONE:UTC
BEGIN:VEVENT
SUMMARY:CERES Young Scientists Research Colloquium
DTSTART:20140116T170000Z
DTEND:20140116T183000Z
DTSTAMP:20260422T015024Z
UID:en-ceres-young-scientists-research-colloquium-769@ceres.rub.de
CATEGORIES:
DESCRIPTION:timetable\nPatricia Lenz: Vorstellung der Masterarbeit: Arbeit
 stitel: Walter  Benjamins Überlegungen zur Religion und seine Methoden de
 r „rettenden  Kritik“ im Werk von Michael Taussig.\nPlanung der Blockv
 eranstaltung am 20./21.02.2014
LOCATION:FNO 02/ 73-75
URL:https://ceres.rub.de/en/events/en-ceres-young-scientists-research-coll
 oquium/
END:VEVENT
END:VCALENDAR
