BEGIN:VCALENDAR
VERSION:2.0
PRODID:-//ceres.rub.de//events//
CALSCALE:GREGORIAN
METHOD:PUBLISH
X-WR-TIMEZONE:UTC
BEGIN:VEVENT
SUMMARY:CERES Youngs Scientists Research Colloquium
DTSTART:20131212T170000Z
DTEND:20131212T183000Z
DTSTAMP:20260422T033427Z
UID:en-ceres-YSRC-poelking-768@ceres.rub.de
CATEGORIES:
DESCRIPTION:timetable\nJulian Höbsch: Kontemplation als Beispiel für rel
 igiöse Deprivatisierung aus Sicht der polnischen Bischofskonferenz.
LOCATION:FNO 02/ 73-75
URL:https://ceres.rub.de/en/events/en-ceres-YSRC-poelking/
END:VEVENT
END:VCALENDAR
