BEGIN:VCALENDAR
VERSION:2.0
PRODID:-//ceres.rub.de//events//
CALSCALE:GREGORIAN
METHOD:PUBLISH
X-WR-TIMEZONE:UTC
BEGIN:VEVENT
SUMMARY:CERES Computer Café
DTSTART:20160126T110000Z
DTEND:20160126T130000Z
DTSTAMP:20260421T062651Z
UID:en-20160126-ceres-computer-cafe-2132@ceres.rub.de
CATEGORIES:
DESCRIPTION:Digital Editions
LOCATION:CERES Palais\, room "Ruhrpott" (4.13)
URL:https://ceres.rub.de/en/events/en-20160126-ceres-computer-cafe/
END:VEVENT
END:VCALENDAR
