BEGIN:VCALENDAR
VERSION:2.0
PRODID:-//ceres.rub.de//events//
CALSCALE:GREGORIAN
METHOD:PUBLISH
X-WR-TIMEZONE:UTC
BEGIN:VEVENT
SUMMARY:Network Workshop
DTSTART:20150410T080000Z
DTEND:20150412T140000Z
DTSTAMP:20260421T025410Z
UID:en-20150410-network-workshop-1405@ceres.rub.de
CATEGORIES:
DESCRIPTION:HNR Workshop 2015To mine and to tie: Text mining and network a
 nalysis for historiansApril 10th-12th 2015The  9th event in the series „
 Historical Network Research“ – a workshop for  semantical-social netwo
 rks – takes place at Ruhr University Bochum in  April 2015. The workshop
  series offers first insights into the  methodology as well as a platform 
 for exchanging the latest techniques  in network analysis to all intereste
 d researchers of all fields of  study. With this aim\, the workshop in Boc
 hum is going to deal with the  text mining method which enables an increas
 ed automation of creation of  networks. Additionally\, the question concer
 ning the dimension of texts  represented this way is taken into considerat
 ion. Here\, with  semantical-social networks you can deal with terminologi
 cal and  conceptual contexts on one hand\, and\, on the other hand\, with 
 the  relationships between entities.\nMore information
LOCATION:FNO 02/ 40-46
URL:https://ceres.rub.de/en/events/en-20150410-network-workshop/
END:VEVENT
END:VCALENDAR
