BEGIN:VCALENDAR
VERSION:2.0
PRODID:-//ceres.rub.de//events//
CALSCALE:GREGORIAN
METHOD:PUBLISH
X-WR-TIMEZONE:UTC
BEGIN:VEVENT
SUMMARY:CERES D
DTSTART:20150204T133000Z
DTEND:20150204T150000Z
DTSTAMP:20260421T044258Z
UID:en-20150204-ceres-d-1491@ceres.rub.de
CATEGORIES:
DESCRIPTION:Input by Adam Knobler on the representation (or lack of) of th
 e divine in films. Please see the intranet for further information on the 
 group (pdf "CERES D: "Embodying the (un)holy).
LOCATION:FNO 02/ 40-46
URL:https://ceres.rub.de/en/events/en-20150204-ceres-d/
END:VEVENT
END:VCALENDAR
