BEGIN:VCALENDAR
VERSION:2.0
PRODID:-//ceres.rub.de//events//
CALSCALE:GREGORIAN
METHOD:PUBLISH
X-WR-TIMEZONE:UTC
BEGIN:VEVENT
SUMMARY:Buddhism in Motion
DTSTART:20141210T133000Z
DTEND:20141210T150000Z
DTSTAMP:20260421T080505Z
UID:en-20141210-buddhism-in-motion-1468@ceres.rub.de
CATEGORIES:
DESCRIPTION:
LOCATION:FNO 02/ 40-46
URL:https://ceres.rub.de/en/events/en-20141210-buddhism-in-motion/
END:VEVENT
END:VCALENDAR
