BEGIN:VCALENDAR
VERSION:2.0
PRODID:-//ceres.rub.de//events//
CALSCALE:GREGORIAN
METHOD:PUBLISH
X-WR-TIMEZONE:UTC
BEGIN:VEVENT
SUMMARY:Treffen CERES C
DTSTART:20140916T100000Z
DTEND:20140916T120000Z
DTSTAMP:20260421T125233Z
UID:en-20140916-treffen-ceres-c-1141@ceres.rub.de
CATEGORIES:
DESCRIPTION:
LOCATION:FNO 02/ 73-75
URL:https://ceres.rub.de/en/events/en-20140916-treffen-ceres-c/
END:VEVENT
END:VCALENDAR
