BEGIN:VCALENDAR
VERSION:2.0
PRODID:-//ceres.rub.de//events//
CALSCALE:GREGORIAN
METHOD:PUBLISH
X-WR-TIMEZONE:UTC
BEGIN:VEVENT
SUMMARY:KHK Plenary Session | Research Field 3
DTSTART:20140623T140000Z
DTEND:20140623T180000Z
DTSTAMP:20260421T180100Z
UID:en-20140623-plenary-session-rf3-1058@ceres.rub.de
CATEGORIES:
DESCRIPTION:
LOCATION:FNO 02/ 40-46
URL:https://ceres.rub.de/en/events/en-20140623-plenary-session-rf3/
END:VEVENT
END:VCALENDAR
