BEGIN:VCALENDAR
VERSION:2.0
PRODID:-//ceres.rub.de//events//
CALSCALE:GREGORIAN
METHOD:PUBLISH
X-WR-TIMEZONE:UTC
BEGIN:VEVENT
SUMMARY:KHK Monday Meeting | Tradition Group
DTSTART:20140616T140000Z
DTEND:20140616T160000Z
DTSTAMP:20260421T193427Z
UID:en-20140616-monday-meeting-tradition-1056@ceres.rub.de
CATEGORIES:
DESCRIPTION:
LOCATION:FNO 02/ 40-46
URL:https://ceres.rub.de/en/events/en-20140616-monday-meeting-tradition/
END:VEVENT
END:VCALENDAR
