BEGIN:VCALENDAR
VERSION:2.0
PRODID:-//ceres.rub.de//events//
CALSCALE:GREGORIAN
METHOD:PUBLISH
X-WR-TIMEZONE:UTC
BEGIN:VEVENT
SUMMARY:KHK Monday Meeting | Mission Group
DTSTART:20140630T160000Z
DTEND:20140630T180000Z
DTSTAMP:20260421T193021Z
UID:en-20140428-monday-meeting-mission-1047@ceres.rub.de
CATEGORIES:
DESCRIPTION:
LOCATION:FNO 02/ 40-46
URL:https://ceres.rub.de/en/events/en-20140428-monday-meeting-mission/
END:VEVENT
END:VCALENDAR
