BEGIN:VCALENDAR
VERSION:2.0
PRODID:-//ceres.rub.de//events//
CALSCALE:GREGORIAN
METHOD:PUBLISH
X-WR-TIMEZONE:UTC
BEGIN:VEVENT
SUMMARY:KHK Plenary Session | Fellow Presentation
DTSTART:20140428T160000Z
DTEND:20140428T180000Z
DTSTAMP:20260421T210559Z
UID:en-20140428-fellow-presentation-1048@ceres.rub.de
CATEGORIES:
DESCRIPTION:Talk by Stephen Eskildsen:\n\nTaoist Immortals and Buddhas are
  the Same: Innovative Buddhology and Polemics in Late Imperial Dragon Gate
  Internal Alchemy.
LOCATION:FNO 02/ 40-46
URL:https://ceres.rub.de/en/events/en-20140428-fellow-presentation/
END:VEVENT
END:VCALENDAR
