BEGIN:VCALENDAR
VERSION:2.0
PRODID:-//ceres.rub.de//events//
CALSCALE:GREGORIAN
METHOD:PUBLISH
X-WR-TIMEZONE:UTC
BEGIN:VEVENT
SUMMARY:Meeting | CERES C
DTSTART:20140321T091500Z
DTEND:20140321T110000Z
DTSTAMP:20260421T224620Z
UID:en-20140321-meeting-ceres-c--805@ceres.rub.de
CATEGORIES:
DESCRIPTION:
LOCATION:FNO 02/ 73-75
URL:https://ceres.rub.de/en/events/en-20140321-meeting-ceres-c-/
END:VEVENT
END:VCALENDAR
