BEGIN:VCALENDAR
VERSION:2.0
PRODID:-//ceres.rub.de//events//
CALSCALE:GREGORIAN
METHOD:PUBLISH
X-WR-TIMEZONE:UTC
BEGIN:VEVENT
SUMMARY:Workshop | CERES Young Scientist's Think Tank
DTSTART:20140220T090000Z
DTEND:20140221T150000Z
DTSTAMP:20260422T001447Z
UID:en-20140220-ceres-young-scientists-think-tank-783@ceres.rub.de
CATEGORIES:
DESCRIPTION:
LOCATION:FNO 02/ 73-75
URL:https://ceres.rub.de/en/events/en-20140220-ceres-young-scientists-thin
 k-tank/
END:VEVENT
END:VCALENDAR
