BEGIN:VCALENDAR
VERSION:2.0
PRODID:-//ceres.rub.de//events//
CALSCALE:GREGORIAN
METHOD:PUBLISH
X-WR-TIMEZONE:UTC
BEGIN:VEVENT
SUMMARY:KHK Monday Meeting | Research Field 2
DTSTART:20140113T151500Z
DTEND:20140113T164500Z
DTSTAMP:20260422T014902Z
UID:en-20140113-monday-meeting-rf2-641@ceres.rub.de
CATEGORIES:
DESCRIPTION:
LOCATION:FNO 02/ 40-46
URL:https://ceres.rub.de/en/events/en-20140113-monday-meeting-rf2/
END:VEVENT
END:VCALENDAR
