BEGIN:VCALENDAR
VERSION:2.0
PRODID:-//ceres.rub.de//events//
CALSCALE:GREGORIAN
METHOD:PUBLISH
X-WR-TIMEZONE:UTC
BEGIN:VEVENT
SUMMARY:KHK Monday Meeting | Transcendence Group
DTSTART:20131209T151500Z
DTEND:20131209T164500Z
DTSTAMP:20260422T033636Z
UID:en-20131209-monday-meeting-transcendence-747@ceres.rub.de
CATEGORIES:
DESCRIPTION:Gerard Wiegers introduces to Hajari (cf. texts in the document
 s)
LOCATION:FNO 02/ 40-46
URL:https://ceres.rub.de/en/events/en-20131209-monday-meeting-transcendenc
 e/
END:VEVENT
END:VCALENDAR
