BEGIN:VCALENDAR
VERSION:2.0
PRODID:-//ceres.rub.de//events//
CALSCALE:GREGORIAN
METHOD:PUBLISH
X-WR-TIMEZONE:UTC
BEGIN:VEVENT
SUMMARY:blockseminar: Pientka-Hinz3
DTSTART:20131207T090000Z
DTEND:20131207T170000Z
DTSTAMP:20260422T034052Z
UID:en-20131207-blockseminar_pientka-hinz3-756@ceres.rub.de
CATEGORIES:
DESCRIPTION:
LOCATION:FNO 02/ 73-75
URL:https://ceres.rub.de/en/events/en-20131207-blockseminar_pientka-hinz3/
END:VEVENT
END:VCALENDAR
